BEGIN:VCALENDAR
VERSION:2.0
PRODID:-//Dan Walsh Banjo - ECPv6.15.13.1//NONSGML v1.0//EN
CALSCALE:GREGORIAN
METHOD:PUBLISH
X-WR-CALNAME:Dan Walsh Banjo
X-ORIGINAL-URL:https://www.danwalshbanjo.co.uk
X-WR-CALDESC:Events for Dan Walsh Banjo
REFRESH-INTERVAL;VALUE=DURATION:PT1H
X-Robots-Tag:noindex
X-PUBLISHED-TTL:PT1H
BEGIN:VTIMEZONE
TZID:Europe/London
BEGIN:DAYLIGHT
TZOFFSETFROM:+0000
TZOFFSETTO:+0100
TZNAME:BST
DTSTART:20250330T010000
END:DAYLIGHT
BEGIN:STANDARD
TZOFFSETFROM:+0100
TZOFFSETTO:+0000
TZNAME:GMT
DTSTART:20251026T010000
END:STANDARD
BEGIN:DAYLIGHT
TZOFFSETFROM:+0000
TZOFFSETTO:+0100
TZNAME:BST
DTSTART:20260329T010000
END:DAYLIGHT
BEGIN:STANDARD
TZOFFSETFROM:+0100
TZOFFSETTO:+0000
TZNAME:GMT
DTSTART:20261025T010000
END:STANDARD
BEGIN:DAYLIGHT
TZOFFSETFROM:+0000
TZOFFSETTO:+0100
TZNAME:BST
DTSTART:20270328T010000
END:DAYLIGHT
BEGIN:STANDARD
TZOFFSETFROM:+0100
TZOFFSETTO:+0000
TZNAME:GMT
DTSTART:20271031T010000
END:STANDARD
END:VTIMEZONE
BEGIN:VEVENT
DTSTART;TZID=Europe/London:20260419T193000
DTEND;TZID=Europe/London:20260419T213000
DTSTAMP:20260419T161824
CREATED:20260117T053920Z
LAST-MODIFIED:20260117T053920Z
UID:10000880-1776627000-1776634200@www.danwalshbanjo.co.uk
SUMMARY:Solo\, Stanstead Abbotts
DESCRIPTION:
URL:https://www.danwalshbanjo.co.uk/gig/solo-stanstead-abbotts-2/
LOCATION:Stanstead Abbotts Concert Society\, Stanstead Abbotts\, Stanstead Abbotts Parish Hall\, Stanstead Abbotts\, Hertfordshire\, SG12 8HN\, United Kingdom
GEO:51.7881449;0.009664
X-APPLE-STRUCTURED-LOCATION;VALUE=URI;X-ADDRESS=Stanstead Abbotts Concert Society Stanstead Abbotts Stanstead Abbotts Parish Hall Stanstead Abbotts Hertfordshire SG12 8HN United Kingdom;X-APPLE-RADIUS=500;X-TITLE=Stanstead Abbotts Parish Hall:geo:0.009664,51.7881449
END:VEVENT
END:VCALENDAR