BEGIN:VCALENDAR
VERSION:2.0
PRODID:-//Dan Walsh Banjo - ECPv6.15.13.1//NONSGML v1.0//EN
CALSCALE:GREGORIAN
METHOD:PUBLISH
X-ORIGINAL-URL:https://www.danwalshbanjo.co.uk
X-WR-CALDESC:Events for Dan Walsh Banjo
REFRESH-INTERVAL;VALUE=DURATION:PT1H
X-Robots-Tag:noindex
X-PUBLISHED-TTL:PT1H
BEGIN:VTIMEZONE
TZID:Europe/London
BEGIN:DAYLIGHT
TZOFFSETFROM:+0000
TZOFFSETTO:+0100
TZNAME:BST
DTSTART:20240331T010000
END:DAYLIGHT
BEGIN:STANDARD
TZOFFSETFROM:+0100
TZOFFSETTO:+0000
TZNAME:GMT
DTSTART:20241027T010000
END:STANDARD
BEGIN:DAYLIGHT
TZOFFSETFROM:+0000
TZOFFSETTO:+0100
TZNAME:BST
DTSTART:20250330T010000
END:DAYLIGHT
BEGIN:STANDARD
TZOFFSETFROM:+0100
TZOFFSETTO:+0000
TZNAME:GMT
DTSTART:20251026T010000
END:STANDARD
BEGIN:DAYLIGHT
TZOFFSETFROM:+0000
TZOFFSETTO:+0100
TZNAME:BST
DTSTART:20260329T010000
END:DAYLIGHT
BEGIN:STANDARD
TZOFFSETFROM:+0100
TZOFFSETTO:+0000
TZNAME:GMT
DTSTART:20261025T010000
END:STANDARD
END:VTIMEZONE
BEGIN:VEVENT
DTSTART;TZID=Europe/London:20251214T193000
DTEND;TZID=Europe/London:20251214T213000
DTSTAMP:20260424T111446
CREATED:20250531T222854Z
LAST-MODIFIED:20250531T222854Z
UID:10000851-1765740600-1765747800@www.danwalshbanjo.co.uk
SUMMARY:Urban Folk Quartet\, Walton-on-Thames
DESCRIPTION:
URL:https://www.danwalshbanjo.co.uk/gig/urban-folk-quartet-walton-on-thames-2/
LOCATION:Riverhouse Barn\, Walton-on-Thames\, Manor Rd\, Walton-on-Thames\, Surrey\, KT12 2PF\, United Kingdom
GEO:51.3897217;-0.4216602
X-APPLE-STRUCTURED-LOCATION;VALUE=URI;X-ADDRESS=Riverhouse Barn Walton-on-Thames Manor Rd Walton-on-Thames Surrey KT12 2PF United Kingdom;X-APPLE-RADIUS=500;X-TITLE=Manor Rd:geo:-0.4216602,51.3897217
END:VEVENT
END:VCALENDAR