BEGIN:VCALENDAR
VERSION:2.0
PRODID:-//Dan Walsh Banjo - ECPv6.15.13.1//NONSGML v1.0//EN
CALSCALE:GREGORIAN
METHOD:PUBLISH
X-WR-CALNAME:Dan Walsh Banjo
X-ORIGINAL-URL:https://www.danwalshbanjo.co.uk
X-WR-CALDESC:Events for Dan Walsh Banjo
REFRESH-INTERVAL;VALUE=DURATION:PT1H
X-Robots-Tag:noindex
X-PUBLISHED-TTL:PT1H
BEGIN:VTIMEZONE
TZID:Europe/London
BEGIN:DAYLIGHT
TZOFFSETFROM:+0000
TZOFFSETTO:+0100
TZNAME:BST
DTSTART:20250330T010000
END:DAYLIGHT
BEGIN:STANDARD
TZOFFSETFROM:+0100
TZOFFSETTO:+0000
TZNAME:GMT
DTSTART:20251026T010000
END:STANDARD
BEGIN:DAYLIGHT
TZOFFSETFROM:+0000
TZOFFSETTO:+0100
TZNAME:BST
DTSTART:20260329T010000
END:DAYLIGHT
BEGIN:STANDARD
TZOFFSETFROM:+0100
TZOFFSETTO:+0000
TZNAME:GMT
DTSTART:20261025T010000
END:STANDARD
BEGIN:DAYLIGHT
TZOFFSETFROM:+0000
TZOFFSETTO:+0100
TZNAME:BST
DTSTART:20270328T010000
END:DAYLIGHT
BEGIN:STANDARD
TZOFFSETFROM:+0100
TZOFFSETTO:+0000
TZNAME:GMT
DTSTART:20271031T010000
END:STANDARD
END:VTIMEZONE
BEGIN:VEVENT
DTSTART;TZID=Europe/London:20260114T180000
DTEND;TZID=Europe/London:20260114T210000
DTSTAMP:20260424T093340
CREATED:20251017T155501Z
LAST-MODIFIED:20260112T000538Z
UID:10000855-1768413600-1768424400@www.danwalshbanjo.co.uk
SUMMARY:Solo\, Woy Woy\, NSW\, Australia
DESCRIPTION:
URL:https://www.danwalshbanjo.co.uk/gig/solo-woy-woy-nsw-australia-2/
LOCATION:Troubadour Folk Club\, Woy Woy\, NSW\, Australia\, House Concert (address given once booked)\, Woy Woy\, NSW\, Australia
END:VEVENT
BEGIN:VEVENT
DTSTART;VALUE=DATE:20260116
DTEND;VALUE=DATE:20260119
DTSTAMP:20260424T093341
CREATED:20251017T155620Z
LAST-MODIFIED:20251017T155620Z
UID:10000856-1768521600-1768780799@www.danwalshbanjo.co.uk
SUMMARY:Solo\, Bulli\, NSW\, Australia
DESCRIPTION:
URL:https://www.danwalshbanjo.co.uk/gig/solo-bulli-nsw-australia/
LOCATION:Illawarra Folk Festival\, Bulli\, NSW\, Australia\, Bulli Showground\, Bulli\, NSW\, Australia
END:VEVENT
BEGIN:VEVENT
DTSTART;TZID=Europe/London:20260123T193000
DTEND;TZID=Europe/London:20260123T213000
DTSTAMP:20260424T093341
CREATED:20251017T160013Z
LAST-MODIFIED:20251215T092218Z
UID:10000857-1769196600-1769203800@www.danwalshbanjo.co.uk
SUMMARY:Solo\, Wentworth Falls\, NSW\, Australia
DESCRIPTION:
URL:https://www.danwalshbanjo.co.uk/gig/solo-bathurst-nsw-australia/
LOCATION:Grandview Hotel\, Wentworth Falls\, NSW\, Australia\, Grandview Hotel\, Wentworth Falls\, NSW\, Australia
END:VEVENT
BEGIN:VEVENT
DTSTART;TZID=Europe/London:20260124T193000
DTEND;TZID=Europe/London:20260124T213000
DTSTAMP:20260424T093341
CREATED:20251017T160150Z
LAST-MODIFIED:20251215T093648Z
UID:10000858-1769283000-1769290200@www.danwalshbanjo.co.uk
SUMMARY:Solo\, Upper Lansdowne\, NSW\, Australia
DESCRIPTION:
URL:https://www.danwalshbanjo.co.uk/gig/solo-upper-lansdowne-nsw-australia-2/
LOCATION:Music At The Hall\, Upper Lansdowne\, NSW\, Australia\, Upper Lansdowne Hall\, Upper Lansdowne\, NSW\, Australia
END:VEVENT
BEGIN:VEVENT
DTSTART;VALUE=DATE:20260125
DTEND;VALUE=DATE:20260126
DTSTAMP:20260424T093341
CREATED:20251017T160343Z
LAST-MODIFIED:20251017T160343Z
UID:10000859-1769299200-1769385599@www.danwalshbanjo.co.uk
SUMMARY:Solo\, Nabiac\, NSW\, Australia
DESCRIPTION:
URL:https://www.danwalshbanjo.co.uk/gig/solo-nabiac-nsw-australia/
LOCATION:House Concert\, Nabiac\, NSW\, Australia\, Nabiac\, NSW\, Australia
END:VEVENT
BEGIN:VEVENT
DTSTART;TZID=Europe/London:20260127T200000
DTEND;TZID=Europe/London:20260127T220000
DTSTAMP:20260424T093341
CREATED:20251017T160559Z
LAST-MODIFIED:20251017T160559Z
UID:10000860-1769544000-1769551200@www.danwalshbanjo.co.uk
SUMMARY:Solo\, Brisbane\, QLD\, Australia
DESCRIPTION:
URL:https://www.danwalshbanjo.co.uk/gig/solo-brisbane-qld-australia/
LOCATION:The Bug\, Brisbane\, QLD\, Australia\, The End Bar\, 73 Vulture Street\, West End\, Brisbane\, QLD\, Australia
END:VEVENT
BEGIN:VEVENT
DTSTART;TZID=Europe/London:20260128T193000
DTEND;TZID=Europe/London:20260128T213000
DTSTAMP:20260424T093341
CREATED:20251017T160756Z
LAST-MODIFIED:20251017T160756Z
UID:10000861-1769628600-1769635800@www.danwalshbanjo.co.uk
SUMMARY:Solo\, Brisbane\, QLD\, Australia
DESCRIPTION:
URL:https://www.danwalshbanjo.co.uk/gig/solo-brisbane-qld-australia-2/
LOCATION:Red Hill Folk Club\, Brisbane\, QLD\, Australia\, Red Hill Community Sports Centre\, 22 Fulcher Rd\, Red Hill\, Brisbane\, QLD\, Australia
END:VEVENT
BEGIN:VEVENT
DTSTART;TZID=Europe/London:20260130T193000
DTEND;TZID=Europe/London:20260130T213000
DTSTAMP:20260424T093341
CREATED:20251017T160857Z
LAST-MODIFIED:20251017T160857Z
UID:10000862-1769801400-1769808600@www.danwalshbanjo.co.uk
SUMMARY:Solo\, Allambie Heights\, Sydney\, NSW\, Australia
DESCRIPTION:
URL:https://www.danwalshbanjo.co.uk/gig/solo-allambie-heights-sydney-nsw-australia/
LOCATION:Humph Hall\, Allambie Heights\, Sydney\, NSW\, Australia\, 85 Allambie Rd\, Allambie Heights\, Sydney\, NSW\, 2100\, Australia
END:VEVENT
END:VCALENDAR