BEGIN:VCALENDAR
VERSION:2.0
PRODID:-//Dan Walsh Banjo - ECPv6.15.13.1//NONSGML v1.0//EN
CALSCALE:GREGORIAN
METHOD:PUBLISH
X-ORIGINAL-URL:https://www.danwalshbanjo.co.uk
X-WR-CALDESC:Events for Dan Walsh Banjo
REFRESH-INTERVAL;VALUE=DURATION:PT1H
X-Robots-Tag:noindex
X-PUBLISHED-TTL:PT1H
BEGIN:VTIMEZONE
TZID:Europe/London
BEGIN:DAYLIGHT
TZOFFSETFROM:+0000
TZOFFSETTO:+0100
TZNAME:BST
DTSTART:20250330T010000
END:DAYLIGHT
BEGIN:STANDARD
TZOFFSETFROM:+0100
TZOFFSETTO:+0000
TZNAME:GMT
DTSTART:20251026T010000
END:STANDARD
BEGIN:DAYLIGHT
TZOFFSETFROM:+0000
TZOFFSETTO:+0100
TZNAME:BST
DTSTART:20260329T010000
END:DAYLIGHT
BEGIN:STANDARD
TZOFFSETFROM:+0100
TZOFFSETTO:+0000
TZNAME:GMT
DTSTART:20261025T010000
END:STANDARD
BEGIN:DAYLIGHT
TZOFFSETFROM:+0000
TZOFFSETTO:+0100
TZNAME:BST
DTSTART:20270328T010000
END:DAYLIGHT
BEGIN:STANDARD
TZOFFSETFROM:+0100
TZOFFSETTO:+0000
TZNAME:GMT
DTSTART:20271031T010000
END:STANDARD
END:VTIMEZONE
BEGIN:VEVENT
DTSTART;TZID=Europe/London:20260205T200000
DTEND;TZID=Europe/London:20260205T220000
DTSTAMP:20260422T081505
CREATED:20251017T161104Z
LAST-MODIFIED:20260115T011944Z
UID:10000863-1770321600-1770328800@www.danwalshbanjo.co.uk
SUMMARY:Solo\, Braidwood\, NSW\, Australia
DESCRIPTION:
URL:https://www.danwalshbanjo.co.uk/gig/solo-braidwood-nsw-australia/
LOCATION:Braidwood Folk Club\, Braidwood\, NSW\, Australia\, Braidwood Old Sunday School Hall 68 Wilson Street\, Braidwood\, NSW\, Australia
END:VEVENT
BEGIN:VEVENT
DTSTART;TZID=Europe/London:20260206T200000
DTEND;TZID=Europe/London:20260206T220000
DTSTAMP:20260422T081505
CREATED:20251017T161156Z
LAST-MODIFIED:20251017T161156Z
UID:10000864-1770408000-1770415200@www.danwalshbanjo.co.uk
SUMMARY:Solo\, Tumut\, NSW\, Australia
DESCRIPTION:
URL:https://www.danwalshbanjo.co.uk/gig/solo-tumut-nsw-australia-2/
LOCATION:Tumut River Brewery\, Tumut\, NSW\, Australia\, 1/5 Capper St\, Tumut\, NSW\, 2720\, Australia
END:VEVENT
BEGIN:VEVENT
DTSTART;TZID=Europe/London:20260207T193000
DTEND;TZID=Europe/London:20260207T213000
DTSTAMP:20260422T081505
CREATED:20251017T161250Z
LAST-MODIFIED:20260111T161037Z
UID:10000865-1770492600-1770499800@www.danwalshbanjo.co.uk
SUMMARY:Solo\, Tumbarumba\, NSW\, Australia
DESCRIPTION:
URL:https://www.danwalshbanjo.co.uk/gig/solo-tumbarumba-nsw-australia-2/
LOCATION:Cafe Nest\, Tumbarumba\, NSW\, Australia\, 56 Winton St\, Tumbarumba\, NSW\, 2653
END:VEVENT
BEGIN:VEVENT
DTSTART;TZID=Europe/London:20260208T150000
DTEND;TZID=Europe/London:20260208T163000
DTSTAMP:20260422T081505
CREATED:20251017T161536Z
LAST-MODIFIED:20251017T161536Z
UID:10000866-1770562800-1770568200@www.danwalshbanjo.co.uk
SUMMARY:Banjo Workshop\, Canberra\, ACT\, Australia
DESCRIPTION:
URL:https://www.danwalshbanjo.co.uk/gig/banjo-workshop-canberra-act-australia/
LOCATION:Smith’s Alternative\, Canberra\, ACT\, Australia\, 76 Alinga St\, Canberra\, ACT\, Australia
END:VEVENT
BEGIN:VEVENT
DTSTART;TZID=Europe/London:20260208T190000
DTEND;TZID=Europe/London:20260208T210000
DTSTAMP:20260422T081505
CREATED:20251017T161635Z
LAST-MODIFIED:20251017T161635Z
UID:10000867-1770577200-1770584400@www.danwalshbanjo.co.uk
SUMMARY:Solo\, Canberra\, ACT\, Australia
DESCRIPTION:
URL:https://www.danwalshbanjo.co.uk/gig/solo-canberra-act-australia/
LOCATION:Smith’s Alternative\, Canberra\, ACT\, Australia\, 76 Alinga St\, Canberra\, ACT\, Australia
END:VEVENT
BEGIN:VEVENT
DTSTART;TZID=Europe/London:20260218T193000
DTEND;TZID=Europe/London:20260218T213000
DTSTAMP:20260422T081505
CREATED:20251017T163035Z
LAST-MODIFIED:20251017T163035Z
UID:10000868-1771443000-1771450200@www.danwalshbanjo.co.uk
SUMMARY:Solo\, Golden Bay\, New Zealand
DESCRIPTION:
URL:https://www.danwalshbanjo.co.uk/gig/solo-golden-bay-new-zealand/
LOCATION:The Mussel Inn\, Golden Bay\, New Zealand\, 1259 State Highway 60\, Onekaka\, South Island\, New Zealand
END:VEVENT
BEGIN:VEVENT
DTSTART;TZID=Europe/London:20260219T190000
DTEND;TZID=Europe/London:20260219T210000
DTSTAMP:20260422T081505
CREATED:20251017T163939Z
LAST-MODIFIED:20251017T163939Z
UID:10000869-1771527600-1771534800@www.danwalshbanjo.co.uk
SUMMARY:Solo\, Picton\, New Zealand
DESCRIPTION:
URL:https://www.danwalshbanjo.co.uk/gig/solo-picton-new-zealand/
LOCATION:Le Cafe\, Picton\, New Zealand\, Le Cafe\, 12-14 London Quay\, Picton\, South Island\, New Zealand
END:VEVENT
BEGIN:VEVENT
DTSTART;TZID=Europe/London:20260220T193000
DTEND;TZID=Europe/London:20260220T213000
DTSTAMP:20260422T081505
CREATED:20251017T164130Z
LAST-MODIFIED:20260101T222321Z
UID:10000870-1771615800-1771623000@www.danwalshbanjo.co.uk
SUMMARY:Solo\, Nelson\, New Zealand
DESCRIPTION:
URL:https://www.danwalshbanjo.co.uk/gig/solo-nelson-new-zealand/
LOCATION:The Boathouse\, Nelson\, New Zealand\, 326 Wakefield Quay\, Nelson\, South Island\, New Zealand
END:VEVENT
BEGIN:VEVENT
DTSTART;TZID=Europe/London:20260221T190000
DTEND;TZID=Europe/London:20260221T213000
DTSTAMP:20260422T081505
CREATED:20251017T164313Z
LAST-MODIFIED:20260123T052638Z
UID:10000871-1771700400-1771709400@www.danwalshbanjo.co.uk
SUMMARY:Solo\, Havelock\, New Zealand
DESCRIPTION:
URL:https://www.danwalshbanjo.co.uk/gig/solo-havelock-new-zealand/
LOCATION:Pavilion\, Havelock\, New Zealand\, The Pavilion\, Havelock Memorial Park\, Neil Street\, Havelock\, Havelock\, Marlborough\, South Island\, New Zealand
END:VEVENT
BEGIN:VEVENT
DTSTART;TZID=Europe/London:20260222T193000
DTEND;TZID=Europe/London:20260222T213000
DTSTAMP:20260422T081505
CREATED:20251017T164529Z
LAST-MODIFIED:20251017T164529Z
UID:10000872-1771788600-1771795800@www.danwalshbanjo.co.uk
SUMMARY:Solo\, Christchurch\, New Zealand
DESCRIPTION:
URL:https://www.danwalshbanjo.co.uk/gig/solo-christchurch-new-zealand/
LOCATION:Christchurch Folk Club\, Christchurch\, New Zealand\, 29 Domain Terrace\, Spreydon\, Christchurch\, South Island\, New Zealand
END:VEVENT
BEGIN:VEVENT
DTSTART;TZID=Europe/London:20260225T193000
DTEND;TZID=Europe/London:20260225T213000
DTSTAMP:20260422T081505
CREATED:20251017T164800Z
LAST-MODIFIED:20260216T043219Z
UID:10000873-1772047800-1772055000@www.danwalshbanjo.co.uk
SUMMARY:Solo\, Bundanoon\, NSW\, Australia
DESCRIPTION:
URL:https://www.danwalshbanjo.co.uk/gig/solo-bundanoon-nsw-australia/
LOCATION:Concert At The Church\, Bundanoon\, NSW\, Australia\, Bundanoon Uniting Church\, Bundanoon\, NSW\, Australia
END:VEVENT
END:VCALENDAR