BEGIN:VCALENDAR
VERSION:2.0
PRODID:-//Dan Walsh Banjo - ECPv6.15.13.1//NONSGML v1.0//EN
CALSCALE:GREGORIAN
METHOD:PUBLISH
X-WR-CALNAME:Dan Walsh Banjo
X-ORIGINAL-URL:https://www.danwalshbanjo.co.uk
X-WR-CALDESC:Events for Dan Walsh Banjo
REFRESH-INTERVAL;VALUE=DURATION:PT1H
X-Robots-Tag:noindex
X-PUBLISHED-TTL:PT1H
BEGIN:VTIMEZONE
TZID:Europe/London
BEGIN:DAYLIGHT
TZOFFSETFROM:+0000
TZOFFSETTO:+0100
TZNAME:BST
DTSTART:20250330T010000
END:DAYLIGHT
BEGIN:STANDARD
TZOFFSETFROM:+0100
TZOFFSETTO:+0000
TZNAME:GMT
DTSTART:20251026T010000
END:STANDARD
BEGIN:DAYLIGHT
TZOFFSETFROM:+0000
TZOFFSETTO:+0100
TZNAME:BST
DTSTART:20260329T010000
END:DAYLIGHT
BEGIN:STANDARD
TZOFFSETFROM:+0100
TZOFFSETTO:+0000
TZNAME:GMT
DTSTART:20261025T010000
END:STANDARD
BEGIN:DAYLIGHT
TZOFFSETFROM:+0000
TZOFFSETTO:+0100
TZNAME:BST
DTSTART:20270328T010000
END:DAYLIGHT
BEGIN:STANDARD
TZOFFSETFROM:+0100
TZOFFSETTO:+0000
TZNAME:GMT
DTSTART:20271031T010000
END:STANDARD
END:VTIMEZONE
BEGIN:VEVENT
DTSTART;TZID=Europe/London:20260321T200000
DTEND;TZID=Europe/London:20260321T220000
DTSTAMP:20260422T061000
CREATED:20260117T002641Z
LAST-MODIFIED:20260117T002641Z
UID:10000874-1774123200-1774130400@www.danwalshbanjo.co.uk
SUMMARY:Urban Folk Quartet\, Ripley
DESCRIPTION:
URL:https://www.danwalshbanjo.co.uk/gig/urban-folk-quartet-ripley/
LOCATION:Town Hall\, Ripley\, Main Street\, Ripley\, Yorkshire\, HG3 3AX\, United Kingdom
END:VEVENT
BEGIN:VEVENT
DTSTART;TZID=Europe/London:20260326T200000
DTEND;TZID=Europe/London:20260326T220000
DTSTAMP:20260422T061000
CREATED:20260117T002910Z
LAST-MODIFIED:20260117T002910Z
UID:10000875-1774555200-1774562400@www.danwalshbanjo.co.uk
SUMMARY:Urban Folk Quartet\, Bromsgrove
DESCRIPTION:
URL:https://www.danwalshbanjo.co.uk/gig/urban-folk-quartet-bromsgrove-2/
LOCATION:Catshill Social Club\, Bromsgrove\, Catshill Social Club\, 13\, Meadow Road\, Catshill\, Bromsgrove\, West Midlands\, B61 0JJ\, United Kingdom
END:VEVENT
BEGIN:VEVENT
DTSTART;TZID=Europe/London:20260327T193000
DTEND;TZID=Europe/London:20260327T213000
DTSTAMP:20260422T061000
CREATED:20260117T003058Z
LAST-MODIFIED:20260117T003058Z
UID:10000876-1774639800-1774647000@www.danwalshbanjo.co.uk
SUMMARY:Urban Folk Quartet\, Chester
DESCRIPTION:
URL:https://www.danwalshbanjo.co.uk/gig/urban-folk-quartet-chester-3/
LOCATION:St Mary’s Creative Space\, Chester\, St Mary's Hill Off Castle Street\, Chester\, Cheshire\, CH1 2DW\, United Kingdom
END:VEVENT
END:VCALENDAR