BEGIN:VCALENDAR
VERSION:2.0
PRODID:-//Dan Walsh Banjo - ECPv6.15.13.1//NONSGML v1.0//EN
CALSCALE:GREGORIAN
METHOD:PUBLISH
X-ORIGINAL-URL:https://www.danwalshbanjo.co.uk
X-WR-CALDESC:Events for Dan Walsh Banjo
REFRESH-INTERVAL;VALUE=DURATION:PT1H
X-Robots-Tag:noindex
X-PUBLISHED-TTL:PT1H
BEGIN:VTIMEZONE
TZID:Europe/London
BEGIN:DAYLIGHT
TZOFFSETFROM:+0000
TZOFFSETTO:+0100
TZNAME:BST
DTSTART:20250330T010000
END:DAYLIGHT
BEGIN:STANDARD
TZOFFSETFROM:+0100
TZOFFSETTO:+0000
TZNAME:GMT
DTSTART:20251026T010000
END:STANDARD
BEGIN:DAYLIGHT
TZOFFSETFROM:+0000
TZOFFSETTO:+0100
TZNAME:BST
DTSTART:20260329T010000
END:DAYLIGHT
BEGIN:STANDARD
TZOFFSETFROM:+0100
TZOFFSETTO:+0000
TZNAME:GMT
DTSTART:20261025T010000
END:STANDARD
BEGIN:DAYLIGHT
TZOFFSETFROM:+0000
TZOFFSETTO:+0100
TZNAME:BST
DTSTART:20270328T010000
END:DAYLIGHT
BEGIN:STANDARD
TZOFFSETFROM:+0100
TZOFFSETTO:+0000
TZNAME:GMT
DTSTART:20271031T010000
END:STANDARD
END:VTIMEZONE
BEGIN:VEVENT
DTSTART;TZID=Europe/London:20260701T193000
DTEND;TZID=Europe/London:20260701T213000
DTSTAMP:20260424T093617
CREATED:20260206T045010Z
LAST-MODIFIED:20260206T045010Z
UID:10000892-1782934200-1782941400@www.danwalshbanjo.co.uk
SUMMARY:with The Fugitives\, Stirling
DESCRIPTION:
URL:https://www.danwalshbanjo.co.uk/gig/with-the-fugitives-stirling/
LOCATION:Tolbooth\, Stirling\, Jail Wynd\, Stirling\, Scotland\, FK8 1DE\, United Kingdom
END:VEVENT
BEGIN:VEVENT
DTSTART;TZID=Europe/London:20260703T193000
DTEND;TZID=Europe/London:20260703T213000
DTSTAMP:20260424T093617
CREATED:20260206T045130Z
LAST-MODIFIED:20260206T045130Z
UID:10000893-1783107000-1783114200@www.danwalshbanjo.co.uk
SUMMARY:with The Fugitives\, Basingstoke
DESCRIPTION:
URL:https://www.danwalshbanjo.co.uk/gig/with-the-fugitives-basingstoke/
LOCATION:The Anvil\, Basingstoke\, Churchill Way E\, Basingstoke\, Hampshire\, RG21 7QR\, United Kingdom
END:VEVENT
BEGIN:VEVENT
DTSTART;VALUE=DATE:20260704
DTEND;VALUE=DATE:20260705
DTSTAMP:20260424T093617
CREATED:20260206T045324Z
LAST-MODIFIED:20260206T045324Z
UID:10000894-1783123200-1783209599@www.danwalshbanjo.co.uk
SUMMARY:with The Fugitives\, Pajottegem\, Belgium
DESCRIPTION:
URL:https://www.danwalshbanjo.co.uk/gig/with-the-fugitives-pajottegem-belgium/
LOCATION:Gooikoorts Festival\, Pajottegem\, Belgium\, Gooikoorts Festival\, Pajottegem\, Belgium
END:VEVENT
BEGIN:VEVENT
DTSTART;TZID=Europe/London:20260707T193000
DTEND;TZID=Europe/London:20260707T213000
DTSTAMP:20260424T093617
CREATED:20260206T045626Z
LAST-MODIFIED:20260206T045626Z
UID:10000895-1783452600-1783459800@www.danwalshbanjo.co.uk
SUMMARY:with The Fugitives\, Worthing
DESCRIPTION:
URL:https://www.danwalshbanjo.co.uk/gig/with-the-fugitives-worthing/
LOCATION:The Pavilion Theatre\, Worthing\, Pavilion Atrium\, Marine Parade\, Worthing\, Sussex\, BN11 3PX\, United Kingdom
END:VEVENT
BEGIN:VEVENT
DTSTART;TZID=Europe/London:20260708T200000
DTEND;TZID=Europe/London:20260708T220000
DTSTAMP:20260424T093617
CREATED:20260309T222256Z
LAST-MODIFIED:20260309T222256Z
UID:10000913-1783540800-1783548000@www.danwalshbanjo.co.uk
SUMMARY:with The Fugitives\, London
DESCRIPTION:
URL:https://www.danwalshbanjo.co.uk/gig/with-the-fugitives-london/
LOCATION:George IV\, London\, 185 Chiswick High Rd.\, Chiswick\, London\, London\, W4 2DR\, United Kingdom
END:VEVENT
BEGIN:VEVENT
DTSTART;TZID=Europe/London:20260709T193000
DTEND;TZID=Europe/London:20260709T213000
DTSTAMP:20260424T093617
CREATED:20260309T222703Z
LAST-MODIFIED:20260309T222703Z
UID:10000914-1783625400-1783632600@www.danwalshbanjo.co.uk
SUMMARY:with The Fugitives\, Oswestry
DESCRIPTION:
URL:https://www.danwalshbanjo.co.uk/gig/with-the-fugitives-oswestry/
LOCATION:Hermon Chapel Arts Centre\, Oswestry\, Chapel St\, Oswestry\, SY11 1LF
GEO:52.8610233;-3.0562776
X-APPLE-STRUCTURED-LOCATION;VALUE=URI;X-ADDRESS=Hermon Chapel Arts Centre Oswestry Chapel St Oswestry SY11 1LF;X-APPLE-RADIUS=500;X-TITLE=Chapel St:geo:-3.0562776,52.8610233
END:VEVENT
BEGIN:VEVENT
DTSTART;TZID=Europe/London:20260711T193000
DTEND;TZID=Europe/London:20260711T213000
DTSTAMP:20260424T093617
CREATED:20260206T045950Z
LAST-MODIFIED:20260206T045950Z
UID:10000896-1783798200-1783805400@www.danwalshbanjo.co.uk
SUMMARY:with The Fugitives\, Newbald\, York
DESCRIPTION:
URL:https://www.danwalshbanjo.co.uk/gig/with-the-fugitives-newbald-york/
LOCATION:Newbald Village Hall\, York\, Townside Rd\, North Newbald\, York\, Yorkshire\, YO43 4SL\, United Kingdom
END:VEVENT
BEGIN:VEVENT
DTSTART;TZID=Europe/London:20260712T193000
DTEND;TZID=Europe/London:20260712T213000
DTSTAMP:20260424T093617
CREATED:20260206T050218Z
LAST-MODIFIED:20260206T050218Z
UID:10000897-1783884600-1783891800@www.danwalshbanjo.co.uk
SUMMARY:with The Fugitives\, Robin Hood's Bay
DESCRIPTION:
URL:https://www.danwalshbanjo.co.uk/gig/with-the-fugitives-robin-hoods-bay/
LOCATION:Old School House\, Robin Hood’s Bay\, Whitby\, Robin Hood's Bay\, Whitby\, Yorkshire\, YO22 4ST\, United Kingdom
END:VEVENT
BEGIN:VEVENT
DTSTART;TZID=Europe/London:20260722T200000
DTEND;TZID=Europe/London:20260722T220000
DTSTAMP:20260424T093617
CREATED:20260324T103225Z
LAST-MODIFIED:20260324T103225Z
UID:10000916-1784750400-1784757600@www.danwalshbanjo.co.uk
SUMMARY:Solo\, Harrogate
DESCRIPTION:
URL:https://www.danwalshbanjo.co.uk/gig/solo-harrogate-2/
LOCATION:Harrogate Folk Club\, Harrogate\, Rooster's Brewery Taproom\, Hornbeam Park\, Harrogate\, Yorkshire\, HG2 8QT\, United Kingdom
GEO:53.994526;-1.52366
X-APPLE-STRUCTURED-LOCATION;VALUE=URI;X-ADDRESS=Harrogate Folk Club Harrogate Rooster's Brewery Taproom Hornbeam Park Harrogate Yorkshire HG2 8QT United Kingdom;X-APPLE-RADIUS=500;X-TITLE=Rooster's Brewery Taproom\, Hornbeam Park:geo:-1.52366,53.994526
END:VEVENT
BEGIN:VEVENT
DTSTART;VALUE=DATE:20260726
DTEND;VALUE=DATE:20260727
DTSTAMP:20260424T093617
CREATED:20260413T104706Z
LAST-MODIFIED:20260413T104706Z
UID:10000918-1785024000-1785110399@www.danwalshbanjo.co.uk
SUMMARY:Solo\, Hexham
DESCRIPTION:
URL:https://www.danwalshbanjo.co.uk/gig/solo-hexham/
LOCATION:Hexham Bluegrass Festival\, Hexham\, The Sele and Beyond\, Hexham\, Northumberland\, NE46 3LZ\, United Kingdom
END:VEVENT
END:VCALENDAR