BEGIN:VCALENDAR
VERSION:2.0
PRODID:-//Dan Walsh Banjo - ECPv6.15.13.1//NONSGML v1.0//EN
CALSCALE:GREGORIAN
METHOD:PUBLISH
X-ORIGINAL-URL:https://www.danwalshbanjo.co.uk
X-WR-CALDESC:Events for Dan Walsh Banjo
REFRESH-INTERVAL;VALUE=DURATION:PT1H
X-Robots-Tag:noindex
X-PUBLISHED-TTL:PT1H
BEGIN:VTIMEZONE
TZID:UTC
BEGIN:STANDARD
TZOFFSETFROM:+0000
TZOFFSETTO:+0000
TZNAME:UTC
DTSTART:20170101T000000
END:STANDARD
END:VTIMEZONE
BEGIN:VEVENT
DTSTART;TZID=UTC:20180920T200000
DTEND;TZID=UTC:20180920T220000
DTSTAMP:20260421T133112
CREATED:20180526T144024Z
LAST-MODIFIED:20180526T144515Z
UID:10000388-1537473600-1537480800@www.danwalshbanjo.co.uk
SUMMARY:Solo\, Bahnhofbar\, Eppen\, Italy
DESCRIPTION:
URL:https://www.danwalshbanjo.co.uk/gig/solo-bahnhofbar-eppen-italy/
LOCATION:Bahnhofbar\, Eppen\, Italy\, Via Stazione\, 1\, 39057 San Michele BZ\, Italy\, Eppen\, BZ\, Italy
GEO:46.455238;11.259275
X-APPLE-STRUCTURED-LOCATION;VALUE=URI;X-ADDRESS=Bahnhofbar Eppen Italy Via Stazione 1 39057 San Michele BZ Italy Eppen BZ Italy;X-APPLE-RADIUS=500;X-TITLE=Via Stazione\, 1\, 39057 San Michele BZ\, Italy:geo:11.259275,46.455238
END:VEVENT
END:VCALENDAR