BEGIN:VCALENDAR
VERSION:2.0
PRODID:-//Dan Walsh Banjo - ECPv6.15.13.1//NONSGML v1.0//EN
CALSCALE:GREGORIAN
METHOD:PUBLISH
X-WR-CALNAME:Dan Walsh Banjo
X-ORIGINAL-URL:https://www.danwalshbanjo.co.uk
X-WR-CALDESC:Events for Dan Walsh Banjo
REFRESH-INTERVAL;VALUE=DURATION:PT1H
X-Robots-Tag:noindex
X-PUBLISHED-TTL:PT1H
BEGIN:VTIMEZONE
TZID:UTC
BEGIN:STANDARD
TZOFFSETFROM:+0000
TZOFFSETTO:+0000
TZNAME:UTC
DTSTART:20220101T000000
END:STANDARD
END:VTIMEZONE
BEGIN:VEVENT
DTSTART;TZID=UTC:20230720T193000
DTEND;TZID=UTC:20230720T220000
DTSTAMP:20260421T160725
CREATED:20230324T160524Z
LAST-MODIFIED:20230324T160524Z
UID:10000743-1689881400-1689890400@www.danwalshbanjo.co.uk
SUMMARY:Solo\, Deal
DESCRIPTION:
URL:https://www.danwalshbanjo.co.uk/gig/solo-deal/
LOCATION:Deal Folk Club\, Kent\, St. Andrews Church Hall\, West Street\, Deal\, Kent\, CT14 6DZ\, United Kingdom
GEO:51.2146164;1.4024284
X-APPLE-STRUCTURED-LOCATION;VALUE=URI;X-ADDRESS=Deal Folk Club Kent St. Andrews Church Hall West Street Deal Kent CT14 6DZ United Kingdom;X-APPLE-RADIUS=500;X-TITLE=St. Andrews Church Hall\, West Street:geo:1.4024284,51.2146164
END:VEVENT
END:VCALENDAR