BEGIN:VCALENDAR
VERSION:2.0
PRODID:-//Dan Walsh Banjo - ECPv6.15.13.1//NONSGML v1.0//EN
CALSCALE:GREGORIAN
METHOD:PUBLISH
X-ORIGINAL-URL:https://www.danwalshbanjo.co.uk
X-WR-CALDESC:Events for Dan Walsh Banjo
REFRESH-INTERVAL;VALUE=DURATION:PT1H
X-Robots-Tag:noindex
X-PUBLISHED-TTL:PT1H
BEGIN:VTIMEZONE
TZID:UTC
BEGIN:STANDARD
TZOFFSETFROM:+0000
TZOFFSETTO:+0000
TZNAME:UTC
DTSTART:20180101T000000
END:STANDARD
END:VTIMEZONE
BEGIN:VEVENT
DTSTART;TZID=UTC:20190714T200000
DTEND;TZID=UTC:20190714T210000
DTSTAMP:20260422T083729
CREATED:20181105T220814Z
LAST-MODIFIED:20181105T220814Z
UID:10000545-1563134400-1563138000@www.danwalshbanjo.co.uk
SUMMARY:Urban Folk Quartet\, Anglesey
DESCRIPTION:
URL:https://www.danwalshbanjo.co.uk/gig/urban-folk-quartet-anglesey/
LOCATION:Folk On The Farm\, Anglesey\, Tyddyn Mon\, Anglesey\, Wales\, LL70 9PJ\, United Kingdom
GEO:53.3585798;-4.2797329
X-APPLE-STRUCTURED-LOCATION;VALUE=URI;X-ADDRESS=Folk On The Farm Anglesey Tyddyn Mon Anglesey Wales LL70 9PJ United Kingdom;X-APPLE-RADIUS=500;X-TITLE=Tyddyn Mon:geo:-4.2797329,53.3585798
END:VEVENT
BEGIN:VEVENT
DTSTART;TZID=UTC:20190713T193000
DTEND;TZID=UTC:20190713T203000
DTSTAMP:20260422T083729
CREATED:20181105T220710Z
LAST-MODIFIED:20181105T220710Z
UID:10000543-1563046200-1563049800@www.danwalshbanjo.co.uk
SUMMARY:Dan Walsh Trio\, Anglesey
DESCRIPTION:
URL:https://www.danwalshbanjo.co.uk/gig/dan-walsh-trio-anglesey/
LOCATION:Folk On The Farm\, Anglesey\, Tyddyn Mon\, Anglesey\, Wales\, LL70 9PJ\, United Kingdom
GEO:53.3585798;-4.2797329
X-APPLE-STRUCTURED-LOCATION;VALUE=URI;X-ADDRESS=Folk On The Farm Anglesey Tyddyn Mon Anglesey Wales LL70 9PJ United Kingdom;X-APPLE-RADIUS=500;X-TITLE=Tyddyn Mon:geo:-4.2797329,53.3585798
END:VEVENT
END:VCALENDAR