BEGIN:VCALENDAR
VERSION:2.0
PRODID:-//Dan Walsh Banjo - ECPv6.15.13.1//NONSGML v1.0//EN
CALSCALE:GREGORIAN
METHOD:PUBLISH
X-ORIGINAL-URL:https://www.danwalshbanjo.co.uk
X-WR-CALDESC:Events for Dan Walsh Banjo
REFRESH-INTERVAL;VALUE=DURATION:PT1H
X-Robots-Tag:noindex
X-PUBLISHED-TTL:PT1H
BEGIN:VTIMEZONE
TZID:Europe/London
BEGIN:DAYLIGHT
TZOFFSETFROM:+0000
TZOFFSETTO:+0100
TZNAME:BST
DTSTART:20250330T010000
END:DAYLIGHT
BEGIN:STANDARD
TZOFFSETFROM:+0100
TZOFFSETTO:+0000
TZNAME:GMT
DTSTART:20251026T010000
END:STANDARD
BEGIN:DAYLIGHT
TZOFFSETFROM:+0000
TZOFFSETTO:+0100
TZNAME:BST
DTSTART:20260329T010000
END:DAYLIGHT
BEGIN:STANDARD
TZOFFSETFROM:+0100
TZOFFSETTO:+0000
TZNAME:GMT
DTSTART:20261025T010000
END:STANDARD
BEGIN:DAYLIGHT
TZOFFSETFROM:+0000
TZOFFSETTO:+0100
TZNAME:BST
DTSTART:20270328T010000
END:DAYLIGHT
BEGIN:STANDARD
TZOFFSETFROM:+0100
TZOFFSETTO:+0000
TZNAME:GMT
DTSTART:20271031T010000
END:STANDARD
END:VTIMEZONE
BEGIN:VEVENT
DTSTART;TZID=Europe/London:20260521T200000
DTEND;TZID=Europe/London:20260521T220000
DTSTAMP:20260420T041431
CREATED:20260117T055542Z
LAST-MODIFIED:20260117T055542Z
UID:10000886-1779393600-1779400800@www.danwalshbanjo.co.uk
SUMMARY:Solo\, London
DESCRIPTION:
URL:https://www.danwalshbanjo.co.uk/gig/solo-london-3/
LOCATION:LVLS\, London\, 3 Sucession Walk\, Fish Island\, London\, London\, E3 2RX\, United Kingdom
END:VEVENT
END:VCALENDAR