BEGIN:VCALENDAR
VERSION:2.0
PRODID:-//Dan Walsh Banjo - ECPv6.15.13.1//NONSGML v1.0//EN
CALSCALE:GREGORIAN
METHOD:PUBLISH
X-WR-CALNAME:Dan Walsh Banjo
X-ORIGINAL-URL:https://www.danwalshbanjo.co.uk
X-WR-CALDESC:Events for Dan Walsh Banjo
REFRESH-INTERVAL;VALUE=DURATION:PT1H
X-Robots-Tag:noindex
X-PUBLISHED-TTL:PT1H
BEGIN:VTIMEZONE
TZID:UTC
BEGIN:STANDARD
TZOFFSETFROM:+0000
TZOFFSETTO:+0000
TZNAME:UTC
DTSTART:20170101T000000
END:STANDARD
END:VTIMEZONE
BEGIN:VEVENT
DTSTART;TZID=UTC:20180913T193000
DTEND;TZID=UTC:20180913T233000
DTSTAMP:20260421T135551
CREATED:20180420T100731Z
LAST-MODIFIED:20180427T101343Z
UID:10000379-1536867000-1536881400@www.danwalshbanjo.co.uk
SUMMARY:Solo\, House Concert\, Qualicum Beach\, BC\, Canada
DESCRIPTION:
URL:https://www.danwalshbanjo.co.uk/gig/solo-house-concert-qualicum-beach-bc-canada/
LOCATION:Qualicum Beach\, BC\, Canada\, Qualicum Beach\, Vancouver Island\, Canada
GEO:49.3482346;-124.4428262
X-APPLE-STRUCTURED-LOCATION;VALUE=URI;X-ADDRESS=Qualicum Beach BC Canada Qualicum Beach Vancouver Island Canada;X-APPLE-RADIUS=500;X-TITLE=Qualicum Beach:geo:-124.4428262,49.3482346
END:VEVENT
END:VCALENDAR