BEGIN:VCALENDAR
VERSION:2.0
PRODID:-//Dan Walsh Banjo - ECPv6.15.13.1//NONSGML v1.0//EN
CALSCALE:GREGORIAN
METHOD:PUBLISH
X-WR-CALNAME:Dan Walsh Banjo
X-ORIGINAL-URL:https://www.danwalshbanjo.co.uk
X-WR-CALDESC:Events for Dan Walsh Banjo
REFRESH-INTERVAL;VALUE=DURATION:PT1H
X-Robots-Tag:noindex
X-PUBLISHED-TTL:PT1H
BEGIN:VTIMEZONE
TZID:Europe/London
BEGIN:DAYLIGHT
TZOFFSETFROM:+0000
TZOFFSETTO:+0100
TZNAME:BST
DTSTART:20230326T010000
END:DAYLIGHT
BEGIN:STANDARD
TZOFFSETFROM:+0100
TZOFFSETTO:+0000
TZNAME:GMT
DTSTART:20231029T010000
END:STANDARD
BEGIN:DAYLIGHT
TZOFFSETFROM:+0000
TZOFFSETTO:+0100
TZNAME:BST
DTSTART:20240331T010000
END:DAYLIGHT
BEGIN:STANDARD
TZOFFSETFROM:+0100
TZOFFSETTO:+0000
TZNAME:GMT
DTSTART:20241027T010000
END:STANDARD
BEGIN:DAYLIGHT
TZOFFSETFROM:+0000
TZOFFSETTO:+0100
TZNAME:BST
DTSTART:20250330T010000
END:DAYLIGHT
BEGIN:STANDARD
TZOFFSETFROM:+0100
TZOFFSETTO:+0000
TZNAME:GMT
DTSTART:20251026T010000
END:STANDARD
END:VTIMEZONE
BEGIN:VTIMEZONE
TZID:UTC
BEGIN:STANDARD
TZOFFSETFROM:+0000
TZOFFSETTO:+0000
TZNAME:UTC
DTSTART:20180101T000000
END:STANDARD
END:VTIMEZONE
BEGIN:VEVENT
DTSTART;TZID=Europe/London:20240919T193000
DTEND;TZID=Europe/London:20240919T213000
DTSTAMP:20260421T115023
CREATED:20240529T174130Z
LAST-MODIFIED:20240529T174130Z
UID:10000803-1726774200-1726781400@www.danwalshbanjo.co.uk
SUMMARY:Solo\, Neenton\, Shropshire
DESCRIPTION:
URL:https://www.danwalshbanjo.co.uk/gig/solo-neenton-shropshire/
LOCATION:The Pheasant\, Neenton\, Shropshire\, Neenton\, Bridgnorth\, Shropshire\, WV16 6RJ\, United Kingdom
GEO:52.4865282;-2.5369225
X-APPLE-STRUCTURED-LOCATION;VALUE=URI;X-ADDRESS=The Pheasant Neenton Shropshire Neenton Bridgnorth Shropshire WV16 6RJ United Kingdom;X-APPLE-RADIUS=500;X-TITLE=Neenton:geo:-2.5369225,52.4865282
END:VEVENT
BEGIN:VEVENT
DTSTART;TZID=UTC:20190220T193000
DTEND;TZID=UTC:20190220T213000
DTSTAMP:20260421T115023
CREATED:20181104T143843Z
LAST-MODIFIED:20181104T143843Z
UID:10000405-1550691000-1550698200@www.danwalshbanjo.co.uk
SUMMARY:with Alistair Anderson\, Neenton\, Shropshire
DESCRIPTION:
URL:https://www.danwalshbanjo.co.uk/gig/with-alistair-anderson-neenton-shropshire/
LOCATION:The Pheasant\, Neenton\, Shropshire\, Neenton\, Bridgnorth\, Shropshire\, WV16 6RJ\, United Kingdom
GEO:52.4865282;-2.5369225
X-APPLE-STRUCTURED-LOCATION;VALUE=URI;X-ADDRESS=The Pheasant Neenton Shropshire Neenton Bridgnorth Shropshire WV16 6RJ United Kingdom;X-APPLE-RADIUS=500;X-TITLE=Neenton:geo:-2.5369225,52.4865282
END:VEVENT
END:VCALENDAR