BEGIN:VCALENDAR
VERSION:2.0
PRODID:-//Dan Walsh Banjo - ECPv6.15.13.1//NONSGML v1.0//EN
CALSCALE:GREGORIAN
METHOD:PUBLISH
X-WR-CALNAME:Dan Walsh Banjo
X-ORIGINAL-URL:https://www.danwalshbanjo.co.uk
X-WR-CALDESC:Events for Dan Walsh Banjo
REFRESH-INTERVAL;VALUE=DURATION:PT1H
X-Robots-Tag:noindex
X-PUBLISHED-TTL:PT1H
BEGIN:VTIMEZONE
TZID:Europe/London
BEGIN:DAYLIGHT
TZOFFSETFROM:+0000
TZOFFSETTO:+0100
TZNAME:BST
DTSTART:20230326T010000
END:DAYLIGHT
BEGIN:STANDARD
TZOFFSETFROM:+0100
TZOFFSETTO:+0000
TZNAME:GMT
DTSTART:20231029T010000
END:STANDARD
BEGIN:DAYLIGHT
TZOFFSETFROM:+0000
TZOFFSETTO:+0100
TZNAME:BST
DTSTART:20240331T010000
END:DAYLIGHT
BEGIN:STANDARD
TZOFFSETFROM:+0100
TZOFFSETTO:+0000
TZNAME:GMT
DTSTART:20241027T010000
END:STANDARD
BEGIN:DAYLIGHT
TZOFFSETFROM:+0000
TZOFFSETTO:+0100
TZNAME:BST
DTSTART:20250330T010000
END:DAYLIGHT
BEGIN:STANDARD
TZOFFSETFROM:+0100
TZOFFSETTO:+0000
TZNAME:GMT
DTSTART:20251026T010000
END:STANDARD
END:VTIMEZONE
BEGIN:VTIMEZONE
TZID:UTC
BEGIN:STANDARD
TZOFFSETFROM:+0000
TZOFFSETTO:+0000
TZNAME:UTC
DTSTART:20180101T000000
END:STANDARD
END:VTIMEZONE
BEGIN:VEVENT
DTSTART;TZID=Europe/London:20240702T193000
DTEND;TZID=Europe/London:20240702T213000
DTSTAMP:20260421T133622
CREATED:20240402T092330Z
LAST-MODIFIED:20240402T092330Z
UID:10000796-1719948600-1719955800@www.danwalshbanjo.co.uk
SUMMARY:guesting with The Fugitives\, Milton Keynes
DESCRIPTION:
URL:https://www.danwalshbanjo.co.uk/gig/guesting-with-the-fugitives-milton-keynes/
LOCATION:The Stables\, Milton Keynes\, Stockwell Lane\, Milton Keynes\, Buckinghamshire\, MK17 8LU\, United Kingdom
GEO:52.0269543;-0.6749856
X-APPLE-STRUCTURED-LOCATION;VALUE=URI;X-ADDRESS=The Stables Milton Keynes Stockwell Lane Milton Keynes Buckinghamshire MK17 8LU United Kingdom;X-APPLE-RADIUS=500;X-TITLE=Stockwell Lane:geo:-0.6749856,52.0269543
END:VEVENT
BEGIN:VEVENT
DTSTART;TZID=UTC:20190529T193000
DTEND;TZID=UTC:20190529T213000
DTSTAMP:20260421T133622
CREATED:20181104T153858Z
LAST-MODIFIED:20181104T153858Z
UID:10000495-1559158200-1559165400@www.danwalshbanjo.co.uk
SUMMARY:Dan Walsh Trio\, Milton Keynes
DESCRIPTION:
URL:https://www.danwalshbanjo.co.uk/gig/dan-walsh-trio-milton-keynes/
LOCATION:The Stables\, Milton Keynes\, Stockwell Lane\, Milton Keynes\, Buckinghamshire\, MK17 8LU\, United Kingdom
GEO:52.0269543;-0.6749856
X-APPLE-STRUCTURED-LOCATION;VALUE=URI;X-ADDRESS=The Stables Milton Keynes Stockwell Lane Milton Keynes Buckinghamshire MK17 8LU United Kingdom;X-APPLE-RADIUS=500;X-TITLE=Stockwell Lane:geo:-0.6749856,52.0269543
END:VEVENT
END:VCALENDAR